BEGIN:VCALENDAR
VERSION:2.0
PRODID:-//吉隆坡中华独立中学资源中心 - ECPv6.5.1.6//NONSGML v1.0//EN
CALSCALE:GREGORIAN
METHOD:PUBLISH
X-WR-CALNAME:吉隆坡中华独立中学资源中心
X-ORIGINAL-URL:https://www.chonghwakl.edu.my/library
X-WR-CALDESC:Events for 吉隆坡中华独立中学资源中心
REFRESH-INTERVAL;VALUE=DURATION:PT1H
X-Robots-Tag:noindex
X-PUBLISHED-TTL:PT1H
BEGIN:VTIMEZONE
TZID:Asia/Shanghai
BEGIN:STANDARD
TZOFFSETFROM:+0800
TZOFFSETTO:+0800
TZNAME:CST
DTSTART:20220101T000000
END:STANDARD
END:VTIMEZONE
BEGIN:VEVENT
DTSTART;TZID=Asia/Shanghai:20220523T074500
DTEND;TZID=Asia/Shanghai:20220523T090500
DTSTAMP:20260425T200318
CREATED:20220519T021444Z
LAST-MODIFIED:20220519T022253Z
UID:4884-1653291900-1653296700@www.chonghwakl.edu.my
SUMMARY:参观主题书展 ～ 初二礼学生，林珉秀老师
DESCRIPTION:初二礼 学生 49人，教师 1人 \n宗旨：1. 推广阅读活动 \n2. 学习如何查找书籍
URL:https://www.chonghwakl.edu.my/library/event/%e5%88%9d%e4%ba%8c%e7%a4%bc%ef%bc%8c%e6%9e%97%e7%8f%89%e7%a7%80%e8%80%81%e5%b8%88-%e5%8f%82%e8%a7%82%e4%b8%bb%e9%a2%98%e4%b9%a6%e5%b1%95/
END:VEVENT
END:VCALENDAR